BEGIN:VCALENDAR
VERSION:2.0
PRODID:-//Sons of the American Revolution - ECPv6.15.20//NONSGML v1.0//EN
CALSCALE:GREGORIAN
METHOD:PUBLISH
X-ORIGINAL-URL:https://www.sarsandiego.org
X-WR-CALDESC:Events for Sons of the American Revolution
REFRESH-INTERVAL;VALUE=DURATION:PT1H
X-Robots-Tag:noindex
X-PUBLISHED-TTL:PT1H
BEGIN:VTIMEZONE
TZID:America/Los_Angeles
BEGIN:DAYLIGHT
TZOFFSETFROM:-0800
TZOFFSETTO:-0700
TZNAME:PDT
DTSTART:20250309T100000
END:DAYLIGHT
BEGIN:STANDARD
TZOFFSETFROM:-0700
TZOFFSETTO:-0800
TZNAME:PST
DTSTART:20251102T090000
END:STANDARD
BEGIN:DAYLIGHT
TZOFFSETFROM:-0800
TZOFFSETTO:-0700
TZNAME:PDT
DTSTART:20260308T100000
END:DAYLIGHT
BEGIN:STANDARD
TZOFFSETFROM:-0700
TZOFFSETTO:-0800
TZNAME:PST
DTSTART:20261101T090000
END:STANDARD
BEGIN:DAYLIGHT
TZOFFSETFROM:-0800
TZOFFSETTO:-0700
TZNAME:PDT
DTSTART:20270314T100000
END:DAYLIGHT
BEGIN:STANDARD
TZOFFSETFROM:-0700
TZOFFSETTO:-0800
TZNAME:PST
DTSTART:20271107T090000
END:STANDARD
END:VTIMEZONE
BEGIN:VEVENT
DTSTART;TZID=America/Los_Angeles:20260425T080000
DTEND;TZID=America/Los_Angeles:20260425T130000
DTSTAMP:20260421T075339
CREATED:20260314T153459Z
LAST-MODIFIED:20260314T153502Z
UID:18611-1777104000-1777122000@www.sarsandiego.org
SUMMARY:Black Powder Training Class
DESCRIPTION:SD SAR has reserved a black powder/muzzle loading training session.The site is the Escondido Fish & Game Association range at 16525 Guejito RdEscondido CA 92027 near the east end of Lake Wolford.The class would run approx. 6 hours including range time.Date: April 25 2026The class will start at 8:00 am and wrap up midafternoon. The gates will open 30mins early.Cost is at $175 cash per person. That covers classroom and range usage fees. Thiscan be paid in full the day of the class.You will need to bring the guns\, black powder\, shooting and cleaning patches\, borecleaner and lube\, eye and ear protection\, ramrods\, lead round balls\, and any othersupplies pertinent to the muskets/rifles you bring.There is a small restaurant a few miles away but I recommend bringing a sacklunch.NRA Muzzleloader certificates will be awarded for each participant.The early signup to get a printed certificate is:https://www.nrainstructors.org/CourseDetails.aspx?Courseid=911160&seats=10&State=n&zip=92025&radius=25.1&id=51&bsa=&youth=&women=You do not need a NRA or BSA id number. These are optional.This is a public class. Anyone can attend.
URL:https://www.sarsandiego.org/events/black-powder-training-class/
LOCATION:16525 Guejito Rd Escondido CA 92027\, 16525 Guejito Rd\, Escondido\, California\, 92027\, United States
END:VEVENT
END:VCALENDAR