BEGIN:VCALENDAR
VERSION:2.0
PRODID:-//Sons of the American Revolution - ECPv6.15.20//NONSGML v1.0//EN
CALSCALE:GREGORIAN
METHOD:PUBLISH
X-WR-CALNAME:Sons of the American Revolution
X-ORIGINAL-URL:https://www.sarsandiego.org
X-WR-CALDESC:Events for Sons of the American Revolution
REFRESH-INTERVAL;VALUE=DURATION:PT1H
X-Robots-Tag:noindex
X-PUBLISHED-TTL:PT1H
BEGIN:VTIMEZONE
TZID:America/Los_Angeles
BEGIN:DAYLIGHT
TZOFFSETFROM:-0800
TZOFFSETTO:-0700
TZNAME:PDT
DTSTART:20250309T100000
END:DAYLIGHT
BEGIN:STANDARD
TZOFFSETFROM:-0700
TZOFFSETTO:-0800
TZNAME:PST
DTSTART:20251102T090000
END:STANDARD
BEGIN:DAYLIGHT
TZOFFSETFROM:-0800
TZOFFSETTO:-0700
TZNAME:PDT
DTSTART:20260308T100000
END:DAYLIGHT
BEGIN:STANDARD
TZOFFSETFROM:-0700
TZOFFSETTO:-0800
TZNAME:PST
DTSTART:20261101T090000
END:STANDARD
BEGIN:DAYLIGHT
TZOFFSETFROM:-0800
TZOFFSETTO:-0700
TZNAME:PDT
DTSTART:20270314T100000
END:DAYLIGHT
BEGIN:STANDARD
TZOFFSETFROM:-0700
TZOFFSETTO:-0800
TZNAME:PST
DTSTART:20271107T090000
END:STANDARD
END:VTIMEZONE
BEGIN:VEVENT
DTSTART;TZID=America/Los_Angeles:20260124T080000
DTEND;TZID=America/Los_Angeles:20260124T170000
DTSTAMP:20260421T132845
CREATED:20260125T005251Z
LAST-MODIFIED:20260125T010649Z
UID:18548-1769241600-1769274000@www.sarsandiego.org
SUMMARY:Harbor Chapter Sons of the American Revolution Gala
DESCRIPTION:We hope you will join us for a gracious and unforgettable evening set against the shimmering waters of San Pedro Harbor\, where harbor lights and open skies provide a fitting backdrop for reflection and celebration. Gather with friends and fellow patriots as we honor our shared history\, celebrate our accomplishments\, and come together in the spirit of America 250.March 14\, 6-9 PM 2800 Via Cabrillo-Marina San Pedro\, CA https://www.zeffy.com/en-US/ticketing/harbor-chapter-gala  \n\n\n\nhttps://www.sarsandiego.org/wp-content/uploads/1-1.png \n\n\n\nhttps://www.sarsandiego.org/wp-content/uploads/2-1.png
URL:https://www.sarsandiego.org/events/harbor-chapter-sons-of-the-american-revolution-gala/
END:VEVENT
BEGIN:VEVENT
DTSTART;TZID=America/Los_Angeles:20260221T160000
DTEND;TZID=America/Los_Angeles:20260221T210000
DTSTAMP:20260421T132845
CREATED:20251111T225646Z
LAST-MODIFIED:20260123T222712Z
UID:18366-1771689600-1771707600@www.sarsandiego.org
SUMMARY:George Washington Birthday Dinner
DESCRIPTION:We will hold our very popular George Washington Birthday Dinner at the Green Dragon in Carlsbad on February 21st\, 2026. Our speaker is professor Richard Blum of SDSU History Department and our Color Guard will preform the traditional 3 round musket volley to open the program. This is a black-tie or period uniform event however we also accept men in suits and ladies in non-casual clothing. \n\n\n\nFirst Name *Last Name *Email AddressPhoneAttendees *Number in your party\, add your guest names in the comment area belowTotalDoor Prize Tickets$10 for 10 Tickets$20 for 25 Tickets$35 for 50 TicketsPre-pay for prize tickets and saveDoor Prize TotalGrand TotalPayment Method *Debit/Credit Card- $5 fee added for card useZelle (treasurer@sarsandiego.org)Select the payment method desiredCheck All That ApplySARDARCARChapter(s)Entrée SelectionFirst NameEntree ChoiceTunaFilet MignonRequest/AllergyFirst NameEntree ChoiceTunaFilet MignonRequest/AllergyFirst NameEntree ChoiceTunaFilet MignonRequest/AllergyFirst NameEntree ChoiceTunaFilet MignonRequest/AllergyFirst NameEntree ChoiceTunaFilet MignonRequest/AllergyFirst NameEntree ChoiceTunaFilet MignonRequest/AllergyCommentsSubmit
URL:https://www.sarsandiego.org/events/george-washington-birthday-dinner/
END:VEVENT
BEGIN:VEVENT
DTSTART;TZID=America/Los_Angeles:20260311T180000
DTEND;TZID=America/Los_Angeles:20260311T193000
DTSTAMP:20260421T132845
CREATED:20260219T214338Z
LAST-MODIFIED:20260219T214341Z
UID:18579-1773252000-1773257400@www.sarsandiego.org
SUMMARY:House of Spain Book Presentation & Meet the Author
DESCRIPTION:Dear members and friends of the House of Spain\,Please join us for this upcoming event on Wednesday\, March 11\, at the Casita.To attend and due to  \n\n\n\nlimited seating\, please reply to this email by March 8 with your name and the number of guests in your party. You can find additional details in the attached flier.
URL:https://www.sarsandiego.org/events/house-of-spain-book-presentation-meet-the-author/
ATTACH;FMTTYPE=image/jpeg:https://www.sarsandiego.org/wp-content/uploads/20260311-Book-presentation-Revolution-Spains-Crucial-Role-by-Dr.-Jorge-Luis-Garcia-Ruiz.jpg
END:VEVENT
BEGIN:VEVENT
DTSTART;TZID=America/Los_Angeles:20260425T080000
DTEND;TZID=America/Los_Angeles:20260425T130000
DTSTAMP:20260421T132845
CREATED:20260314T153459Z
LAST-MODIFIED:20260314T153502Z
UID:18611-1777104000-1777122000@www.sarsandiego.org
SUMMARY:Black Powder Training Class
DESCRIPTION:SD SAR has reserved a black powder/muzzle loading training session.The site is the Escondido Fish & Game Association range at 16525 Guejito RdEscondido CA 92027 near the east end of Lake Wolford.The class would run approx. 6 hours including range time.Date: April 25 2026The class will start at 8:00 am and wrap up midafternoon. The gates will open 30mins early.Cost is at $175 cash per person. That covers classroom and range usage fees. Thiscan be paid in full the day of the class.You will need to bring the guns\, black powder\, shooting and cleaning patches\, borecleaner and lube\, eye and ear protection\, ramrods\, lead round balls\, and any othersupplies pertinent to the muskets/rifles you bring.There is a small restaurant a few miles away but I recommend bringing a sacklunch.NRA Muzzleloader certificates will be awarded for each participant.The early signup to get a printed certificate is:https://www.nrainstructors.org/CourseDetails.aspx?Courseid=911160&seats=10&State=n&zip=92025&radius=25.1&id=51&bsa=&youth=&women=You do not need a NRA or BSA id number. These are optional.This is a public class. Anyone can attend.
URL:https://www.sarsandiego.org/events/black-powder-training-class/
LOCATION:16525 Guejito Rd Escondido CA 92027\, 16525 Guejito Rd\, Escondido\, California\, 92027\, United States
END:VEVENT
BEGIN:VEVENT
DTSTART;TZID=America/Los_Angeles:20260523T080000
DTEND;TZID=America/Los_Angeles:20260523T110000
DTSTAMP:20260421T132845
CREATED:20260304T193218Z
LAST-MODIFIED:20260304T193224Z
UID:18603-1779523200-1779534000@www.sarsandiego.org
SUMMARY:Ft. Rosecrans National Cemetery
DESCRIPTION:Placing Flags on servicemen’s graves for memorial day.  \n\n\n\nWelcoming at 0800.
URL:https://www.sarsandiego.org/events/ft-rosecrans-national-cemetery/
END:VEVENT
BEGIN:VEVENT
DTSTART;TZID=America/Los_Angeles:20260525T083000
DTEND;TZID=America/Los_Angeles:20260525T113000
DTSTAMP:20260421T132845
CREATED:20260304T193438Z
LAST-MODIFIED:20260304T193444Z
UID:18605-1779697800-1779708600@www.sarsandiego.org
SUMMARY:Memorial Day: S.A.R. Wreath Laying
DESCRIPTION:May 25th: 0830 Memorial Day: S.A.R. Wreath laying at Bennington Memorial.
URL:https://www.sarsandiego.org/events/memorial-day-s-a-r-wreath-laying/
END:VEVENT
BEGIN:VEVENT
DTSTART;TZID=America/Los_Angeles:20260525T100000
DTEND;TZID=America/Los_Angeles:20260525T120000
DTSTAMP:20260421T132845
CREATED:20260304T193733Z
LAST-MODIFIED:20260304T193755Z
UID:18607-1779703200-1779710400@www.sarsandiego.org
SUMMARY:Memorial Day: Official Memorial Day commemoration
DESCRIPTION:May 25th 1000 Memorial Day: Official Memorial Day commemoration.   
URL:https://www.sarsandiego.org/events/memorial-day-official-memorial-day-commemoration/
END:VEVENT
BEGIN:VEVENT
DTSTART;TZID=America/Los_Angeles:20260627T180000
DTEND;TZID=America/Los_Angeles:20260627T210000
DTSTAMP:20260421T132845
CREATED:20251111T230600Z
LAST-MODIFIED:20251111T230603Z
UID:18368-1782583200-1782594000@www.sarsandiego.org
SUMMARY:Annual Chapter Social
DESCRIPTION:Last year’s gathering at this location went over very well so we decided to return.  There are no reservations just enter the venue and walk to the back patio where you will find us gathered.  The weather should be perfect and we are locate near the runway for Montgomery Airport so there will small planes landing and taking off.  There are no speakers and no particular agenda\, just setting aside time to spend with our members.  The food is very good and you are free to order a dinner while there\, there will be plenty of parking and seating. \n\n\n\nThe address is 8885 Balboa Avenue\, San Diego 92123
URL:https://www.sarsandiego.org/events/annual-chapter-social/
END:VEVENT
BEGIN:VEVENT
DTSTART;TZID=America/Los_Angeles:20260702T173000
DTEND;TZID=America/Los_Angeles:20260702T220000
DTSTAMP:20260421T132845
CREATED:20260420T041205Z
LAST-MODIFIED:20260420T041848Z
UID:18622-1783013400-1783029600@www.sarsandiego.org
SUMMARY:Justice 250
DESCRIPTION:Join us on July 2 aboard the iconic flight deck of the U.S.S. Midway Museum for a once-in-a-generation event that will celebrate the history of our nation\, our judicial system\, its role in our democracy\, and the rule of law. Justice250.com
URL:https://www.sarsandiego.org/events/justice-250/
ATTACH;FMTTYPE=image/png:https://www.sarsandiego.org/wp-content/uploads/Screenshot-2026-04-19-at-9.17.47-PM.png
END:VEVENT
BEGIN:VEVENT
DTSTART;TZID=America/Los_Angeles:20261017T080000
DTEND;TZID=America/Los_Angeles:20261017T113000
DTSTAMP:20260421T132845
CREATED:20251115T231333Z
LAST-MODIFIED:20251115T231339Z
UID:18415-1792224000-1792236600@www.sarsandiego.org
SUMMARY:Massing of the Colors
DESCRIPTION:The annual Massing of the Colors where Color Guard units from the area march the colors into the Organ Pavilion at Balboa Park.
URL:https://www.sarsandiego.org/events/massing-of-the-colors-2/
LOCATION:Balboa Park Organ Pavilion\, 2168 E Pan American Rd\, San Diego\, California\, 92101
END:VEVENT
END:VCALENDAR