BEGIN:VCALENDAR
VERSION:2.0
PRODID:-//Sons of the American Revolution - ECPv6.15.20//NONSGML v1.0//EN
CALSCALE:GREGORIAN
METHOD:PUBLISH
X-WR-CALNAME:Sons of the American Revolution
X-ORIGINAL-URL:https://www.sarsandiego.org
X-WR-CALDESC:Events for Sons of the American Revolution
REFRESH-INTERVAL;VALUE=DURATION:PT1H
X-Robots-Tag:noindex
X-PUBLISHED-TTL:PT1H
BEGIN:VTIMEZONE
TZID:America/Los_Angeles
BEGIN:DAYLIGHT
TZOFFSETFROM:-0800
TZOFFSETTO:-0700
TZNAME:PDT
DTSTART:20250309T100000
END:DAYLIGHT
BEGIN:STANDARD
TZOFFSETFROM:-0700
TZOFFSETTO:-0800
TZNAME:PST
DTSTART:20251102T090000
END:STANDARD
BEGIN:DAYLIGHT
TZOFFSETFROM:-0800
TZOFFSETTO:-0700
TZNAME:PDT
DTSTART:20260308T100000
END:DAYLIGHT
BEGIN:STANDARD
TZOFFSETFROM:-0700
TZOFFSETTO:-0800
TZNAME:PST
DTSTART:20261101T090000
END:STANDARD
BEGIN:DAYLIGHT
TZOFFSETFROM:-0800
TZOFFSETTO:-0700
TZNAME:PDT
DTSTART:20270314T100000
END:DAYLIGHT
BEGIN:STANDARD
TZOFFSETFROM:-0700
TZOFFSETTO:-0800
TZNAME:PST
DTSTART:20271107T090000
END:STANDARD
END:VTIMEZONE
BEGIN:VEVENT
DTSTART;TZID=America/Los_Angeles:20260311T180000
DTEND;TZID=America/Los_Angeles:20260311T193000
DTSTAMP:20260421T134009
CREATED:20260219T214338Z
LAST-MODIFIED:20260219T214341Z
UID:18579-1773252000-1773257400@www.sarsandiego.org
SUMMARY:House of Spain Book Presentation & Meet the Author
DESCRIPTION:Dear members and friends of the House of Spain\,Please join us for this upcoming event on Wednesday\, March 11\, at the Casita.To attend and due to  \n\n\n\nlimited seating\, please reply to this email by March 8 with your name and the number of guests in your party. You can find additional details in the attached flier.
URL:https://www.sarsandiego.org/events/house-of-spain-book-presentation-meet-the-author/
ATTACH;FMTTYPE=image/jpeg:https://www.sarsandiego.org/wp-content/uploads/20260311-Book-presentation-Revolution-Spains-Crucial-Role-by-Dr.-Jorge-Luis-Garcia-Ruiz.jpg
END:VEVENT
BEGIN:VEVENT
DTSTART;TZID=America/Los_Angeles:20260221T160000
DTEND;TZID=America/Los_Angeles:20260221T210000
DTSTAMP:20260421T134009
CREATED:20251111T225646Z
LAST-MODIFIED:20260123T222712Z
UID:18366-1771689600-1771707600@www.sarsandiego.org
SUMMARY:George Washington Birthday Dinner
DESCRIPTION:We will hold our very popular George Washington Birthday Dinner at the Green Dragon in Carlsbad on February 21st\, 2026. Our speaker is professor Richard Blum of SDSU History Department and our Color Guard will preform the traditional 3 round musket volley to open the program. This is a black-tie or period uniform event however we also accept men in suits and ladies in non-casual clothing. \n\n\n\nFirst Name *Last Name *Email AddressPhoneAttendees *Number in your party\, add your guest names in the comment area belowTotalDoor Prize Tickets$10 for 10 Tickets$20 for 25 Tickets$35 for 50 TicketsPre-pay for prize tickets and saveDoor Prize TotalGrand TotalPayment Method *Debit/Credit Card- $5 fee added for card useZelle (treasurer@sarsandiego.org)Select the payment method desiredCheck All That ApplySARDARCARChapter(s)Entrée SelectionFirst NameEntree ChoiceTunaFilet MignonRequest/AllergyFirst NameEntree ChoiceTunaFilet MignonRequest/AllergyFirst NameEntree ChoiceTunaFilet MignonRequest/AllergyFirst NameEntree ChoiceTunaFilet MignonRequest/AllergyFirst NameEntree ChoiceTunaFilet MignonRequest/AllergyFirst NameEntree ChoiceTunaFilet MignonRequest/AllergyCommentsSubmit
URL:https://www.sarsandiego.org/events/george-washington-birthday-dinner/
END:VEVENT
BEGIN:VEVENT
DTSTART;TZID=America/Los_Angeles:20260124T080000
DTEND;TZID=America/Los_Angeles:20260124T170000
DTSTAMP:20260421T134009
CREATED:20260125T005251Z
LAST-MODIFIED:20260125T010649Z
UID:18548-1769241600-1769274000@www.sarsandiego.org
SUMMARY:Harbor Chapter Sons of the American Revolution Gala
DESCRIPTION:We hope you will join us for a gracious and unforgettable evening set against the shimmering waters of San Pedro Harbor\, where harbor lights and open skies provide a fitting backdrop for reflection and celebration. Gather with friends and fellow patriots as we honor our shared history\, celebrate our accomplishments\, and come together in the spirit of America 250.March 14\, 6-9 PM 2800 Via Cabrillo-Marina San Pedro\, CA https://www.zeffy.com/en-US/ticketing/harbor-chapter-gala  \n\n\n\nhttps://www.sarsandiego.org/wp-content/uploads/1-1.png \n\n\n\nhttps://www.sarsandiego.org/wp-content/uploads/2-1.png
URL:https://www.sarsandiego.org/events/harbor-chapter-sons-of-the-american-revolution-gala/
END:VEVENT
END:VCALENDAR